BEGIN:VCALENDAR
VERSION:2.0
PRODID:-//wp-events-plugin.com//7.2.3.1//EN
TZID:Europe/Paris
X-WR-TIMEZONE:Europe/Paris
BEGIN:VEVENT
UID:16@deumin.com
DTSTART;TZID=Europe/Paris:20240627T100000
DTEND;TZID=Europe/Paris:20240627T140000
DTSTAMP:20240523T124612Z
URL:https://www.deumin.com/formations/formation-3/
SUMMARY:Formation 3
DESCRIPTION:Nullam accumsan lorem in dui. In hac habitasse platea dictumst.
  Fusce egestas elit eget lorem. Phasellus tempus. Pellentesque habitant mo
 rbi tristique senectus et netus et malesuada fames ac turpis egestas. Prae
 sent adipiscing. Proin magna. Quisque id mi. Nulla sit amet est. Praesent 
 metus tellus\, elementum eu\, semper a\, adipiscing nec\, purus. Praesent 
 porttitor\, nulla vitae posuere iaculis\, arcu nisl dignissim dolor\, a pr
 etium mi sem ut ipsum. Ut leo. Morbi mollis tellus ac sapien. Sed consequa
 t\, leo eget bibendum sodales\, augue velit cursus nunc\, quis gravida mag
 na mi a libero. Phasellus nec sem in justo pellentesque facilisis.
ATTACH;FMTTYPE=image/jpeg:https://www.deumin.com/wp-content/uploads/2023/1
 2/ALL-ROAD-GD.png
CATEGORIES:CACES
LOCATION:Nanteuil le haudouin\, grand palais éphémère\, Paris\, France
GEO:48.853271;2.302383
X-APPLE-STRUCTURED-LOCATION;VALUE=URI;X-ADDRESS=grand palais éphémère\, 
 Paris\, France;X-APPLE-RADIUS=100;X-TITLE=Nanteuil le haudouin:geo:48.8532
 71,2.302383
END:VEVENT
BEGIN:VTIMEZONE
TZID:Europe/Paris
X-LIC-LOCATION:Europe/Paris
BEGIN:DAYLIGHT
DTSTART:20240331T030000
TZOFFSETFROM:+0100
TZOFFSETTO:+0200
TZNAME:CEST
END:DAYLIGHT
END:VTIMEZONE
END:VCALENDAR