BEGIN:VCALENDAR
VERSION:2.0
PRODID:-//wp-events-plugin.com//7.2.3.1//EN
TZID:Europe/Paris
X-WR-TIMEZONE:Europe/Paris
BEGIN:VEVENT
UID:1@deumin.com
DTSTART;TZID=Europe/Paris:20220304T080000
DTEND;TZID=Europe/Paris:20220304T180000
DTSTAMP:20220304T143704Z
URL:https://www.deumin.com/formations/klaas-joinville/
SUMMARY:Journé(es) Portes Ouvertes
DESCRIPTION:
CATEGORIES:Klaas
LOCATION:Klaas - Agence de Joinville\, 2 Rue de l'Industrie\, Joinville\, 5
 2300\, France
GEO:48.448709;5.157221
X-APPLE-STRUCTURED-LOCATION;VALUE=URI;X-ADDRESS=2 Rue de l'Industrie\, Join
 ville\, 52300\, France;X-APPLE-RADIUS=100;X-TITLE=Klaas - Agence de Joinvi
 lle:geo:48.448709,5.157221
END:VEVENT
BEGIN:VTIMEZONE
TZID:Europe/Paris
X-LIC-LOCATION:Europe/Paris
BEGIN:STANDARD
DTSTART:20211031T020000
TZOFFSETFROM:+0200
TZOFFSETTO:+0100
TZNAME:CET
END:STANDARD
END:VTIMEZONE
END:VCALENDAR